Workbook

Sheet Budget Laws
A2: North Dakota Century Code Budgetary Laws:
A4: 57-15-02. Determination of rate. The tax rate of all taxes, except taxes the rate of which is fixed by law, must be calculated and fixed by the county auditor within the limitations prescribed by statute. If any municipality levies a greater amount than the prescribed maximum legal rate of levy will produce, the county auditor shall extend only such amount of tax as the prescribed maximum legal rate of levy will produce. The rate must be based and computed on the taxable valuation of taxable property in the municipality or district levying the tax. The rate of all taxes must be calculated by the county auditor in mills, tenths, and hundredths of mills.
A12: 57-15-01.1. Protection of taxpayers and taxing districts. See North Dakota Century Code for details.
A15: 57-15-01.2. Limitation on levies by taxing districts without voter approval. See North Dakota Century Code for details.
A18: 57-15-02.2. Estimated property tax and budget hearing notice. See North Dakota Century Code for details.
A21: 57-15-05. County tax levy. The board of county commissioners, in levying county taxes, is limited to the amount necessary to meet the appropriations included in the county budget for the ensuing fiscal year, and to provide a reserve fund as limited in this chapter, together with a tax sufficient in amount to pay the interest on the bonded debt of the county and to provide a sinking fund to pay the principal at maturity. The county budget shall show the complete expenditure program of the county for the ensuing fiscal year and the sources of revenue from which it is to be financed.
A28: 57-15-27. Interim fund. The governing body of any county, city, park district, or municipality, other than a school district, which is authorized to levy taxes may include in its budget an item to be known as the "interim fund" which must be carried over to the next ensuing fiscal year to meet the cash requirements of all funds or purposes to which the credit of the municipality may be legally extended, for that portion of such fiscal year prior to the receipt of taxes therein. In no case may the interim fund be in excess of the amount reasonably required to finance the municipality for the first nine months of the next ensuing fiscal year. The interim fund may not be in excess of three-fourths of the current annual appropriation for all purposes other than debt retirement purposes and appropriations financed from bond sources.
A38: 57-15-31. Determination of levy. 1. The amount to be levied by any county, city, township, school district, park district, or other municipality authorized to levy taxes must be computed by deducting from the amount of estimated expenditures for the current fiscal year as finally determined, plus the required reserve fund determined upon by the governing board from the past experience of the taxing district, the total of the following items: a. The available surplus consisting of the free and unencumbered cash balance; . b. Estimated revenues from sources other than direct property taxes; c. The total estimated collections from tax levies for previous years; d. Expenditures that must be made from bond sources; e. The amount of distributions received from an economic growth increment pool under section 57-15-61; and f. The estimated amount to be received from payments in lieu of taxes on a project under section 40-57.1-03. 2. Allowance may be made for a permanent delinquency or loss in tax collection not to exceed five percent of the amount of the levy.
A52: 57-15-31.1. Deadline date for amending budgets and certifying taxes. No taxing district may certify any taxes or amend its current budget and no county auditor may accept a certification of taxes or amended budget after the tenth day of October of each year if such certification or amendment results in a change in the amount of tax levied. The current budget, except for property taxes, may be amended during the year for any revenues and appropriations not anticipated at the time the budget was prepared.
A58: 57-15-32. Certification of levy. The taxes levied or voted by any city, township, school district, park district, or other municipality authorized to levy taxes must be certified by the officer acting as business manager or clerk of the governing body of such municipality to the county auditor immediately following the action of the governing body, or within ten days thereafter.
A64: See North Dakota Century Code Chapters 57-15 and 11-23 for further information and compliance requirements.

Sheet Budget File Tips
A1: Budget File Tips
A4: 1 | B4: Make sure you update the budget year on tab "TOC", cell D2 ( updates will be automatic in various tabs)
A5: 2 | B5: If you don't need all of the funds that are available you can do the following:
B6: A | C6: Right click the tabs you don't need and select "hide"
B7: B | C7: In the "Summary" tab, select the rows you don't need and hide. (you can also delete if you think they will never be used)
A8: 3 | B8: If you wish to add funds proceed with the following:
B9: A | C9: Right click one of the sets of category that you want
B10: B | C10: Select Move or Copy
B11: C | C11: Check the box for "create a copy"
B12: D | C12: Select in the list shown for all tabs where you would like the new set to follow
B13: E | C13: Update the tab names for both tabs which will update the formulas within the first tab of the set of two
B14: F | C14: Add a row in the "Summary" tab for the catergory you want to add to
B15: G | C15: Row H will need a link to the new worksheet that you created for the levy amount (see other rows for an example)
A16: 4 | B16: Note that blue cells are there for you to update and non-blue cells typcially are formulas(excepton is the cash and investments amount)
A17: 5 | B17: When you are finished with the file, you can un-highlight the blue cells for printing if you wish
A18: 6 | B18: You will have to add page numbers for your own file
A19: 7 | B19: If you want to set the print area different for the various tabs, feel free to change
A20: 8 | B20: You are able to update the revenue and expenditure categories for your line items if necessary (they are just examples)
A21: 9 | B21: An optional column on the WKS tabs is provided if you want to include more data points into your budget file.

Sheet Tax Cap Instructions
B1: Note: These instructions were developed by the NDACO and converted to excel by the NDSAO. See original instruction form here.
B3: Instructions for 2026 Cap Calculation Worksheet
B4: Budget Year 2027
B6: Cap Percentage Allowance
B7: 1. Current Year Allowable Percentage Limit 3% (auto populates).
B8: 2. Enter Excess Percentage from Last Year (line 46 from last year's cap calculation worksheet).
B9: 3. Maximum Cap Percentage Allowance Available This Year (auto populates).
B11: Calculation 1: Base Year Levy
B12: 4. Enter the three previous year's TOTAL dollars levied by the taxing district. Include all dollars levied by your taxing district.
B13: a. Where can I get previous years' dollars levied?
B14: i. State Tax Department Property Tax Lookup Tool
B15: ii. The Certificate of Levy you provided to the county auditor the previous three years
... B110: "Taxing district" means any political subdivision empowered to levy taxes.

Sheet Budget Cover
A7: EXAMPLE COUNTY
A8: ANNUAL BUDGET
A9: ="December 31, "&TOC!D2&"" -> December 31, 2027
C14: COUNTY OFFICIALS
D15: Current
C17: Enter Name | E17: Chairman
C18: Enter Name | E18: Vice-Chairman
C19: Enter Name | E19: Commissioner
C20: Enter Name | E20: Commissioner
C21: Enter Name | E21: Commissioner
C23: Enter Name | E23: County Auditor
C24: Enter Name | E24: County Treasurer
C25: Enter Name | E25: Superintendent of Schools
C26: Enter Name | E26: Recorder's Office
C27: Enter Name | E27: Clerk of Court
C28: Enter Name | E28: Sheriff
C29: Enter Name | E29: State's Attorney

Sheet TOC
A1: =+'Budget Cover'!A7 -> EXAMPLE COUNTY
C2: BUDGET | D2: 2027
A3: TABLE OF CONTENTS
A5: SECTION | F5: PAGE #
A7: Budget Summary | F7: X - X
A9: Tax Cap Calculations | F9: X - X
A11: Budget Charts and Graphs | F11: X - X
A13: General Fund | F13: X - X
A15: Special Revenue Funds | F15: X - X
A17: Debt Service Funds | F17: X - X
A19: Other Levy Funds | F19: X - X
A21: Non-Levy Funds | F21: X - X

Sheet Summary
H1: Page 1
A3: =+'Budget Cover'!A7 -> EXAMPLE COUNTY | AC3: Yes
A4: BUDGET SUMMARY | AC4: No
A5: =+TOC!D2 -> 2027
H8: Amount
B9: FUND | H9: Levied
A11: GENERAL FUND | H11: =SUM('G 1'!I28) -> 0
A13: SPECIAL REVENUE FUNDS:
B14: =+'SR 1'!E2 -> SR Example Fund 1 | H14: =+'SR 1'!I28 -> 0
B15: =+'SR 2'!E2 -> SR Example Fund 2 | H15: =+'SR 2'!I28 -> 0
B16: =+'SR 3'!E2 -> SR Example Fund 3 | H16: =+'SR 3'!I28 -> 0
B17: =+'SR 4'!E2 -> SR Example Fund 4 | H17: =+'SR 4'!I28 -> 0
B18: =+'SR 5'!E2 -> SR Example Fund 5 | H18: =+'SR 5'!I28 -> 0
B19: =+'SR 6'!E2 -> SR Example Fund 6 | H19: =+'SR 6'!I28 -> 0 | M19: Note: If not all funds are needed, rows can be hidden.
B20: =+'SR 7'!E2 -> SR Example Fund 7 | H20: =+'SR 7'!I28 -> 0 | M20: Note: If additional rows are needed, insert rows and link to fund name on added worksheet
B21: =+'SR 8'!E2 -> SR Example Fund 8 | H21: =+'SR 8'!I28 -> 0
B22: =+'SR 9'!E2 -> SR Example Fund 9 | H22: =+'SR 9'!I28 -> 0
B23: =+'SR 10'!E2 -> SR Example Fund 10 | H23: =+'SR 10'!I28 -> 0
B24: =+'SR 11'!E2 -> SR Example Fund 11 | H24: =+'SR 11'!I28 -> 0
B25: =+'SR 12'!E2 -> SR Example Fund 12 | H25: =+'SR 12'!I28 -> 0
B26: =+'SR 13'!E2 -> SR Example Fund 13 | H26: =+'SR 13'!I28 -> 0
B27: =+'SR 14'!E2 -> SR Example Fund 14 | H27: =+'SR 14'!I28 -> 0
B28: =+'SR 15'!E2 -> SR Example Fund 15 | H28: =+'SR 15'!I28 -> 0
A30: DEBT SERVICE FUNDS:
B31: =+'DS 1'!D2 -> DS Example Fund 1 | H31: =+'DS 1'!I28 -> 0
B32: =+'DS 2'!D2 -> DS Example Fund 2 | H32: =+'DS 2'!I28 -> 0
B33: =+'DS 3'!D2 -> DS Example Fund 3 | H33: =+'DS 3'!I28 -> 0
B34: =+'DS 4'!D2 -> DS Example Fund 4 | H34: =+'DS 4'!I28 -> 0
B35: =+'DS 5'!D2 -> DS Example Fund 5 | H35: =+'DS 5'!I28 -> 0
B36: =+'DS 6'!D2 -> DS Example Fund 6 | H36: =+'DS 6'!I28 -> 0
B37: =+'DS 7'!D2 -> DS Example Fund 7 | H37: =+'DS 7'!I28 -> 0
B38: =+'DS 8'!D2 -> DS Example Fund 8 | H38: =+'DS 8'!I28 -> 0
B39: =+'DS 9'!D2 -> DS Example Fund 9 | H39: =+'DS 9'!I28 -> 0
B40: =+'DS 10'!D2 -> DS Example Fund 10 | H40: =+'DS 10'!I28 -> 0
A42: OTHER COUNTY LEVIES:
B43: =+'OCL 1'!E2 -> OCL Example Fund 1 | H43: =+'OCL 1'!I28 -> 0
B44: =+'OCL 2'!E2 -> OCL Example Fund 2 | H44: =+'OCL 2'!I28 -> 0
B45: =+'OCL 3'!E2 -> OCL Example Fund 3 | H45: =+'OCL 3'!I28 -> 0
B46: =+'OCL 4'!E2 -> OCL Example Fund 4 | H46: =+'OCL 4'!I28 -> 0
B47: =+'OCL 5'!E2 -> OCL Example Fund 5 | H47: =+'OCL 5'!I28 -> 0
...

Sheet HB1776 Cap Calc - Entity Wide
A1: =(TOC!D2-1)& " Cap Calculation Worksheet - Entity Wide"&" For "&(TOC!D2)&" Budget" -> 2026 Cap Calculation Worksheet - Entity Wide For 2027 Budget | C1: Taxing District | D1: ='Budget Cover'!A7 -> EXAMPLE COUNTY | I1: Note: This tax cap form was developed by the NDACO and placed within this budget file by the NDSAO. See original document created by the NDACO here.
C2: Budget Year | D2: =TOC!D2 -> 2027 | I2: Note: Formulas for the years have been updated and is based upont the budget year on the TOC tab.
A3: Cap Percentage Allowance Calculation | I3: **Note: A separate cap calculation worksheet will need to be prepared for each non- entity wide levy. Non-entity wide levies are subtracted from the entity-wide calculation in rows 12 and 46.
A4: 1 | B4: Cap Percentage allowance this year | C4: =D2-1 -> 2026 | D4: 0.03
A5: =A4+1 -> 2 | B5: Unused Cap Percentage allowance last year (see last year's cap calc worksheet) | C5: =D2-2 -> 2025
A6: =A5+1 -> 3 | B6: Maximum Cap Percentage Allowance Available for this year | D6: =D4+D5 -> 0.03
B8: TAX YEAR | C8: ="TY"&(TOC!D2-2) -> TY2025 | D8: ="TY"&(TOC!D2-3) -> TY2024 | E8: ="TY"&(TOC!D2-4) -> TY2023
A9: CALCULATION 1 - Base Year Calculation | C9: Previous Yr Levy | D9: Levy 2 Years Ago | E9: Levy 3 Yrs Ago
A10: 4 | B10: Total Dollars Levied on behalf of taxing district in three preceding years
B11: Less: Levies Exempt from Cap
A12: 5 | B12: Less: Irrepeable tax to pay bonded debt (See Note 3)
A13: =A12+1 -> 6 | B13: Less: Taxes or Special Assessments levied to pay debt (See Note 4)
A14: =A13+1 -> 7 | B14: Less: Taxes to pay bonds, evidence of debt or obligations (See Note 5)
A15: =A14+1 -> 8 | B15: Less: Special improvement project paid by general taxation (See Note 6)
A16: =A15+1 -> 9 | B16: Less: City or County Emergency Levy; Levies to pay claims & judgments; Specials on School Property (See Note 7)
A17: =A16+1 -> 10 | B17: Less: Water Resource Districts (See Note 7)
A18: =A17+1 -> 11 | B18: Less: School District Tuition Levy (See Note 8)
A19: =A18+1 -> 12 | B19: Less: Not entity-wide (requires separate cap calculation)**
A20: =A19+1 -> 13 | B20: Less: Other
A22: =A20+1 -> 14 | B22: Difference = Dollars Levied Subject to Percentage Cap Increase (Line 4 minus Lines 5-13) | C22: =C10-SUM(C12:C20) -> 0 | D22: =D10-SUM(D12:D20) -> 0 | E22: =E10-SUM(E12:E20) -> 0
A23: =A22+1 -> 15 | B23: Base Year Levy (highest of last 3 years Line 14) | C23: =MAX(C22:E22) -> 0
A24: CALCULATION 2 - Ajdusted Year Calculation
A25: =A23+1 -> 16 | B25: Previous Year Levy (from Line 14, 1st column) | C25: =C22 -> 0
A26: =A25+1 -> 17 | B26: Previous Year Taxable Value
A27: =A26+1 -> 18 | B27: Previous Year Mill Rate (Line 16 divided by Line 17 X 1000) | C27: =C25/C26*1000 -> #DIV/0!
A28: =A27+1 -> 19 | B28: Plus: New Property Taxable Value
A29: =A28+1 -> 20 | B29: Plus: Expired TIF Incremental Taxable Value
A30: =A29+1 -> 21 | B30: Plus: Expired Exemptions Taxable Value
A31: =A30+1 -> 22 | B31: Minus: Removed Property Taxable Value
A32: =A31+1 -> 23 | B32: Net Taxable Value (Line 19 plus Line 20 plus Line 21 minus Line 22) | C32: =C28+C29+C30-C31 -> 0
A33: =A32+1 -> 24 | B33: Allowance for New Growth (Line 23 X Line 18 divided by 1000) | C33: =C32*C27/1000 -> #DIV/0!
A34: =A33+1 -> 25 | B34: Minus: Expired Temporary Mill Levy Amount
A35: =A34+1 -> 26 | B35: Net Adjustments (Line 24 minus Line 25) | C35: =C33-C34 -> #DIV/0!
A36: =A35+1 -> 27 | B36: Adjusted Year Levy (Line 16 plus Line 26) | C36: =C25+C35 -> #DIV/0!
A37: CALCULATION 3 - Cap Allowance Calculations
B38: A. Current Year Cap Allowance
A39: =A36+1 -> 28 | B39: Higher Base Year Levy (Line 15) or Adjusted Year Levy (Line 27) | C39: =MAX(C23,C36) -> #DIV/0!
A40: =A39+1 -> 29 | B40: Current Year Allowable Cap Percentage Limit | C40: 0.03
A41: =A40+1 -> 30 | B41: Cap Allowance Amount (Line 28 times Line 29) | C41: =ROUND(C39*C40,0) -> #DIV/0!
A42: =A41+1 -> 31 | B42: CURRENT YEAR CAP = Higher Base Year or Adjusted Year Levy (Line 28) plus Cap Allowance Amount (Line 30) | C42: =C39+C41 -> #DIV/0!
...

Sheet Cap Calc - Non-Entity Wide 1
A1: =(TOC!D2-1)& " Cap Calculation Worksheet - Non Entity Wide"&" For "&(TOC!D2)&" Budget" -> 2026 Cap Calculation Worksheet - Non Entity Wide For 2027 Budget | C1: Taxing District | D1: ='Budget Cover'!A7 -> EXAMPLE COUNTY | I1: Note: This tax cap form was developed by the NDACO and placed within this budget file by the NDSAO. See original document created by the NDACO here.
C2: Non Entity Wide Levy | D2: Example Levy
C3: Budget Year | D3: =TOC!D2 -> 2027 | I3: Note: Formulas for the years have been updated and is based upont the budget year on the TOC tab.
A4: Cap Percentage Allowance Calculation | I4: **Note: A separate cap calculation worksheet will need to be prepared for each non- entity wide levy.
A5: 1 | B5: Cap Percentage allowance this year | C5: =D3-1 -> 2026 | D5: 0.03 | I5: ***Note: Only include taxable valuation that applies to this non entity wide levy.
A6: =A5+1 -> 2 | B6: Unused Cap Percentage allowance last year (see last year's cap calc worksheet) | C6: =D3-2 -> 2025
A7: =A6+1 -> 3 | B7: Maximum Cap Percentage Allowance Available for this year | D7: =D5+D6 -> 0.03
B9: TAX YEAR | C9: ="TY"&(TOC!D2-2) -> TY2025 | D9: ="TY"&(TOC!D2-3) -> TY2024 | E9: ="TY"&(TOC!D2-4) -> TY2023
A10: CALCULATION 1 - Base Year Calculation | C10: Previous Yr Levy | D10: Levy 2 Years Ago | E10: Levy 3 Yrs Ago
A11: 4 | B11: ="Dollars Levied on behalf of taxing district in three preceding years for the "&(D2)&"" -> Dollars Levied on behalf of taxing district in three preceding years for the Example Levy
B12: Less: Levies Exempt from Cap
A13: 5 | B13: Less: Irrepeable tax to pay bonded debt (See Note 3) | C13: N/A | D13: N/A | E13: N/A
A14: =A13+1 -> 6 | B14: Less: Taxes or Special Assessments levied to pay debt (See Note 4) | C14: N/A | D14: N/A | E14: N/A
A15: =A14+1 -> 7 | B15: Less: Taxes to pay bonds, evidence of debt or obligations (See Note 5) | C15: N/A | D15: N/A | E15: N/A
A16: =A15+1 -> 8 | B16: Less: Special improvement project paid by general taxation (See Note 6) | C16: N/A | D16: N/A | E16: N/A
A17: =A16+1 -> 9 | B17: Less: City or County Emergency Levy; Levies to pay claims & judgments; Specials on School Property (See Note 7) | C17: N/A | D17: N/A | E17: N/A
A18: =A17+1 -> 10 | B18: Less: Water Resource Districts (See Note 7) | C18: N/A | D18: N/A | E18: N/A
A19: =A18+1 -> 11 | B19: Less: School District Tuition Levy (See Note 8) | C19: N/A | D19: N/A | E19: N/A
A20: =A19+1 -> 12 | B20: Less: Not entity-wide (requires separate cap calculation) | C20: N/A | D20: N/A | E20: N/A
A21: =A20+1 -> 13 | B21: Less: Other | C21: N/A | D21: N/A | E21: N/A
A23: =A21+1 -> 14 | B23: Difference = Dollars Levied Subject to Percentage Cap Increase (Line 4 minus Lines 5-13) | C23: =C11-SUM(C13:C21) -> 0 | D23: =D11-SUM(D13:D21) -> 0 | E23: =E11-SUM(E13:E21) -> 0
A24: =A23+1 -> 15 | B24: Base Year Levy (highest of last 3 years Line 14) | C24: =MAX(C23:E23) -> 0
A25: CALCULATION 2 - Ajdusted Year Calculation
A26: =A24+1 -> 16 | B26: Previous Year Levy (from Line 14, 1st column) | C26: =C23 -> 0
A27: =A26+1 -> 17 | B27: Previous Year Taxable Value***
A28: =A27+1 -> 18 | B28: Previous Year Mill Rate (Line 16 divided by Line 17 X 1000) | C28: =C26/C27*1000 -> #DIV/0!
A29: =A28+1 -> 19 | B29: Plus: New Property Taxable Value***
A30: =A29+1 -> 20 | B30: Plus: Expired TIF Incremental Taxable Value***
A31: =A30+1 -> 21 | B31: Plus: Expired Exemptions Taxable Value*** | C31: 0
A32: =A31+1 -> 22 | B32: Minus: Removed Property Taxable Value***
A33: =A32+1 -> 23 | B33: Net Taxable Value (Line 19 plus Line 20 plus Line 21 minus Line 22) | C33: =C29+C30+C31-C32 -> 0
A34: =A33+1 -> 24 | B34: Allowance for New Growth (Line 23 X Line 18 divided by 1000) | C34: =C33*C28/1000 -> #DIV/0!
A35: =A34+1 -> 25 | B35: Minus: Expired Temporary Mill Levy Amount | C35: 0
A36: =A35+1 -> 26 | B36: Net Adjustments (Line 24 minus Line 25) | C36: =C34-C35 -> #DIV/0!
A37: =A36+1 -> 27 | B37: Adjusted Year Levy (Line 16 plus Line 26) | C37: =C26+C36 -> #DIV/0!
A38: CALCULATION 3 - Cap Allowance Calculations
B39: A. Current Year Cap Allowance
A40: =A37+1 -> 28 | B40: Higher Base Year Levy (Line 15) or Adjusted Year Levy (Line 27) | C40: =MAX(C24,C37) -> #DIV/0!
A41: =A40+1 -> 29 | B41: Current Year Allowable Cap Percentage Limit | C41: 0.03
A42: =A41+1 -> 30 | B42: Cap Allowance Amount (Line 28 times Line 29) | C42: =ROUND(C40*C41,0) -> #DIV/0!
...

Sheet Cap Calc - Non-Entity Wide 2
A1: =(TOC!D2-1)& " Cap Calculation Worksheet - Non Entity Wide"&" For "&(TOC!D2)&" Budget" -> 2026 Cap Calculation Worksheet - Non Entity Wide For 2027 Budget | C1: Taxing District | D1: ='Budget Cover'!A7 -> EXAMPLE COUNTY | I1: Note: This tax cap form was developed by the NDACO and placed within this budget file by the NDSAO. See original document created by the NDACO here.
C2: Non Entity Wide Levy | D2: Example Levy
C3: Budget Year | D3: =TOC!D2 -> 2027 | I3: Note: Formulas for the years have been updated and is based upont the budget year on the TOC tab.
A4: Cap Percentage Allowance Calculation | I4: **Note: A separate cap calculation worksheet will need to be prepared for each non- entity wide levy.
A5: 1 | B5: Cap Percentage allowance this year | C5: =D3-1 -> 2026 | D5: 0.03 | I5: ***Note: Only include taxable valuation that applies to this non entity wide levy.
A6: =A5+1 -> 2 | B6: Unused Cap Percentage allowance last year (see last year's cap calc worksheet) | C6: =D3-2 -> 2025
A7: =A6+1 -> 3 | B7: Maximum Cap Percentage Allowance Available for this year | D7: =D5+D6 -> 0.03
B9: TAX YEAR | C9: ="TY"&(TOC!D2-2) -> TY2025 | D9: ="TY"&(TOC!D2-3) -> TY2024 | E9: ="TY"&(TOC!D2-4) -> TY2023
A10: CALCULATION 1 - Base Year Calculation | C10: Previous Yr Levy | D10: Levy 2 Years Ago | E10: Levy 3 Yrs Ago
A11: 4 | B11: ="Dollars Levied on behalf of taxing district in three preceding years for the "&(D2)&"" -> Dollars Levied on behalf of taxing district in three preceding years for the Example Levy
B12: Less: Levies Exempt from Cap
A13: 5 | B13: Less: Irrepeable tax to pay bonded debt (See Note 3) | C13: N/A | D13: N/A | E13: N/A
A14: =A13+1 -> 6 | B14: Less: Taxes or Special Assessments levied to pay debt (See Note 4) | C14: N/A | D14: N/A | E14: N/A
A15: =A14+1 -> 7 | B15: Less: Taxes to pay bonds, evidence of debt or obligations (See Note 5) | C15: N/A | D15: N/A | E15: N/A
A16: =A15+1 -> 8 | B16: Less: Special improvement project paid by general taxation (See Note 6) | C16: N/A | D16: N/A | E16: N/A
A17: =A16+1 -> 9 | B17: Less: City or County Emergency Levy; Levies to pay claims & judgments; Specials on School Property (See Note 7) | C17: N/A | D17: N/A | E17: N/A
A18: =A17+1 -> 10 | B18: Less: Water Resource Districts (See Note 7) | C18: N/A | D18: N/A | E18: N/A
A19: =A18+1 -> 11 | B19: Less: School District Tuition Levy (See Note 8) | C19: N/A | D19: N/A | E19: N/A
A20: =A19+1 -> 12 | B20: Less: Not entity-wide (requires separate cap calculation) | C20: N/A | D20: N/A | E20: N/A
A21: =A20+1 -> 13 | B21: Less: Other | C21: N/A | D21: N/A | E21: N/A
A23: =A21+1 -> 14 | B23: Difference = Dollars Levied Subject to Percentage Cap Increase (Line 4 minus Lines 5-13) | C23: =C11-SUM(C13:C21) -> 0 | D23: =D11-SUM(D13:D21) -> 0 | E23: =E11-SUM(E13:E21) -> 0
A24: =A23+1 -> 15 | B24: Base Year Levy (highest of last 3 years Line 14) | C24: =MAX(C23:E23) -> 0
A25: CALCULATION 2 - Ajdusted Year Calculation
A26: =A24+1 -> 16 | B26: Previous Year Levy (from Line 14, 1st column) | C26: =C23 -> 0
A27: =A26+1 -> 17 | B27: Previous Year Taxable Value***
A28: =A27+1 -> 18 | B28: Previous Year Mill Rate (Line 16 divided by Line 17 X 1000) | C28: =C26/C27*1000 -> #DIV/0!
A29: =A28+1 -> 19 | B29: Plus: New Property Taxable Value***
A30: =A29+1 -> 20 | B30: Plus: Expired TIF Incremental Taxable Value***
A31: =A30+1 -> 21 | B31: Plus: Expired Exemptions Taxable Value*** | C31: 0
A32: =A31+1 -> 22 | B32: Minus: Removed Property Taxable Value***
A33: =A32+1 -> 23 | B33: Net Taxable Value (Line 19 plus Line 20 plus Line 21 minus Line 22) | C33: =C29+C30+C31-C32 -> 0
A34: =A33+1 -> 24 | B34: Allowance for New Growth (Line 23 X Line 18 divided by 1000) | C34: =C33*C28/1000 -> #DIV/0!
A35: =A34+1 -> 25 | B35: Minus: Expired Temporary Mill Levy Amount | C35: 0
A36: =A35+1 -> 26 | B36: Net Adjustments (Line 24 minus Line 25) | C36: =C34-C35 -> #DIV/0!
A37: =A36+1 -> 27 | B37: Adjusted Year Levy (Line 16 plus Line 26) | C37: =C26+C36 -> #DIV/0!
A38: CALCULATION 3 - Cap Allowance Calculations
B39: A. Current Year Cap Allowance
A40: =A37+1 -> 28 | B40: Higher Base Year Levy (Line 15) or Adjusted Year Levy (Line 27) | C40: =MAX(C24,C37) -> #DIV/0!
A41: =A40+1 -> 29 | B41: Current Year Allowable Cap Percentage Limit | C41: 0.03
A42: =A41+1 -> 30 | B42: Cap Allowance Amount (Line 28 times Line 29) | C42: =ROUND(C40*C41,0) -> #DIV/0!
...

Sheet Budget Charts
G1: Page XX
C20: TABLE II
C21: CHANGE IN NET POSITION
D23: =+TOC!D2 -> 2027
C24: General Fund Appropriation
C26: General Government | D26: =+'GWKS 3'!H48 -> 0 | K26: =" "&(TEXT(L26,"0.00%"))&" "&C26 -> #DIV/0! | L26: =D26/$D$40 -> #DIV/0!
C27: Public Safety | D27: =+'GWKS 4'!H24 -> 0 | K27: =" "&(TEXT(L27,"0.00%"))&" "&C27 -> #DIV/0! | L27: =D27/$D$40 -> #DIV/0!
C28: Health and Welfare | D28: =+'GWKS 4'!H33 -> 0 | K28: =" "&(TEXT(L28,"0.00%"))&" "&C28 -> #DIV/0! | L28: =D28/$D$40 -> #DIV/0!
C29: Culture and Recreation | D29: =+'GWKS 4'!H40 -> 0 | K29: =" "&(TEXT(L29,"0.00%"))&" "&C29 -> #DIV/0! | L29: =D29/$D$40 -> #DIV/0!
C30: Debt Service | D30: =+'GWKS 5'!H16 -> 0 | K30: =" "&(TEXT(L30,"0.00%"))&" "&C30 -> #DIV/0! | L30: =D30/$D$40 -> #DIV/0!
C31: Conservation of Nat. Resources | D31: =+'GWKS 5'!H25 -> 0 | K31: =" "&(TEXT(L31,"0.00%"))&" "&C31 -> #DIV/0! | L31: =D31/$D$40 -> #DIV/0!
C32: Economic Development | D32: =+'GWKS 5'!H31 -> 0 | K32: =" "&(TEXT(L32,"0.00%"))&" "&C32 -> #DIV/0! | L32: =D32/$D$40 -> #DIV/0!
C33: Miscellaneous | D33: =+'GWKS 5'!H39 -> 0 | K33: =" "&(TEXT(L33,"0.00%"))&" "&C33 -> #DIV/0! | L33: =D33/$D$40 -> #DIV/0!
C40: Total Appropriation | D40: =SUM(D26:D39) -> 0
C41: Check Figure | D41: =+D40-'GWKS 5'!H40 -> 0
C44: Note: This chart is only an example and can be replaced with a different type
C45: of chart or deleted from this budget file.

Sheet G 1
I1: Page XX
A2: General Fund
E3: Fund | F3: 1000
E4: Max Levy Limit - | F4: 60
A6: Estimated Taxable Valuation ------>
B8: APPROPRIATION AND CASH RESERVE | N8: Cash Reserve Worksheet
A9: 1. | B9: a. Final Appropriation | G9: =+'GWKS 5'!H40 -> 0
B10: b. Budgeted Transfers Out | G10: =+'GWKS 5'!H44 -> 0 | N10: Current Appropriation | P10: =+'GWKS 5'!F40 -> 0
B11: c. Total Appropriation Line a plus Line b | I11: =G9+G10 -> 0 | N11: Current Budgeted Transfers Out | P11: =+'GWKS 5'!F44 -> 0
A12: 2. | B12: Cash Reserve (Note 1) | K12: =IF(I12>P24,"Too High", "Within Limitations") -> Within Limitations | N12: Total Appropriation | P12: =SUM(P10:P11) -> 0
A13: 3. | B13: TOTAL APPROPRIATION AND CASH RESERVE
B14: Line 1c plus Line 2 | I14: =I11+I12 -> 0 | N14: Max Cash Reserve Amount | P14: =+P12*0.75 -> 0
B16: RESOURCES AND AMOUNT LEVIED | N16: Ensuing Appropriation | P16: =+'GWKS 5'!H40 -> 0
A17: 4 | B17: Cash and Investments (Estimated) December 31, | F17: =+TOC!D2-1 & " (Note 2)" -> 2026 (Note 2) | I17: =+'GWKS 5'!F45 -> 0 | N17: Ensuing Budgeted Transfers Out | P17: =+'GWKS 5'!H44 -> 0
A18: 5. | B18: a. Estimated Revenue | G18: =SUM('GWKS 2'!G48) -> 0 | N18: Total Appropriation | P18: =SUM(P16:P17) -> 0
B19: b. Estimated Transfers In | G19: =+'GWKS 5'!H43 -> 0
B20: c. Total Estimated Revenue and Transfers In | N20: Max Cash Reserve Amount | P20: =+P18*0.75 -> 0
B21: Line a plus Line b | I21: =G18+G19 -> 0
A23: 6. | B23: TOTAL RESOURCES--Line 4 plus Line 5c | I23: =I17+I21 -> 0 | N23: SAO Recommended
A24: 7. | B24: Levy Required--Line 3 less Line 6 | N24: Max Cash Reserve Amount | P24: =MIN(P14,P20) -> 0
B25: If this difference is less tan 0 enter 0 | I25: =IF((I14-I23)<0,0,I14-I23) -> 0
A26: 8. | B26: Allowance for Delinquent Tax Collections
B27: (Not to exceed 5% of Line 7) | K27: =IF(I27>(I25*0.05),"Too High", "Within Limitations") -> Within Limitations | N27: Year End Fund Balance Estimate
A28: 9. | B28: TOTAL AMOUNT LEVIED--Line 7 plus Line 8 (Note 3) | I28: =I25+I27 -> 0 | O28: =+Summary!A5 -> 2027 | P28: =+I12 -> 0
A30: 10. | B30: Estimated Mills | I30: =ROUND(I28/E6*1000,2) -> #DIV/0! | K30: =IF(I30>(F4),"Too High", "Within Limitations") -> #DIV/0!
A32: Note 1-- Cash Reserve/Interim Fund (N.D.C.C. 57-15-27) Not to exceed 75% of the current year appropriation for all purposes other than for debt retirement and appropriations financed from Bond Sources.
A34: Note 2 - Line 4 is currently a formula. If a better estimate at the time of preparing the budget is available, the County Auditor can modify the formula. If modified, ensure the estimate is for all cash and investments in the fund and that the County maintains proper support for the estimate.
A40: North Dakota Century Code:
A42: 57-15-05. County tax levy. The board of county commissioners, in levying county taxes, is limited to the amount necessary to meet the appropriations included in the county budget for the ensuing fiscal year, and to provide a reserve fund as limited in this chapter, together with a tax sufficient in amount to pay the interest on the bonded debt of the county and to provide a sinking fund to pay the principal at maturity. The county budget shall show the complete expenditure program of the county for the ensuing fiscal year and the sources of revenue from which it is to be financed.
A48: 57-15-27. Interim fund. The governing body of any county, city, park district, or municipality, other than a school district, which is authorized to levy taxes may include in its budget an item to be known as the "interim fund" which must be carried over to the next ensuing fiscal year to meet the cash requirements of all funds or purposes to which the credit of the municipality may be legally extended, for that portion of such fiscal year prior to the receipt of taxes therein. In no case may the interim fund be in excess of the amount reasonably required to finance the municipality for the first nine months of the next ensuing fiscal year. The interim fund may not be in excess of three-fourths of the current annual appropriation for all purposes other than debt retirement purposes and appropriations financed from bond sources.
A55: 57-15-31. Determination of levy. 1. The amount to be levied by any county, city, township, school district, park district, or other municipality authorized to levy taxes must be computed by deducting from the amount of estimated expenditures for the current fiscal year as finally determined, plus the required reserve fund determined upon by the governing board from the past experience of the taxing district, the total of the following items: a. The available surplus consisting of the free and unencumbered cash balance; . b. Estimated revenues from sources other than direct property taxes; c. The total estimated collections from tax levies for previous years; d. Expenditures that must be made from bond sources; e. The amount of distributions received from an economic growth increment pool under section 57-15-61; and f. The estimated amount to be received from payments in lieu of taxes on a project under section 40-57.1-03. 2. Allowance may be made for a permanent delinquency or loss in tax collection not to exceed five percent of the amount of the levy.

Sheet GWKS 1
G1: Page XX
A4: General Fund
A5: Supporting Worksheet
A6: Revenue
D8: Optional Column | E8: Required Columns
D9: Actual | E9: Actual | F9: Estimated | G9: Estimated
D10: Revenues | E10: Revenues | F10: Revenues | G10: Revenues
D11: =+E11-1 -> 2024 | E11: =+F11-1 -> 2025 | F11: =+G11-1 -> 2026 | G11: =+TOC!D2 -> 2027
A12: Taxes:
A13: General Property Taxes
A14: Prior Years Taxes - Delinquent
A15: Mobile Home Taxes
A16: Estate Taxes
A17: Penalty and Interest
A20: Total Taxes | D20: =SUM(D13:D19) -> 0 | E20: =SUM(E13:E19) -> 0 | F20: =SUM(F13:F19) -> 0 | G20: =SUM(G13:G19) -> 0
A21: Licenses, Permits, and Fees:
A22: Beer and Liquor Licenses
A23: Dog Licenses
A24: Raffle & Peddlers Permits
A25: Building Permits
A26: Fireworks Permits
A29: Total Licenses, Permits and Fees | D29: =SUM(D22:D28) -> 0 | E29: =SUM(E22:E28) -> 0 | F29: =SUM(F22:F28) -> 0 | G29: =SUM(G22:G28) -> 0
A30: Intergovernmental Revenue:
A31: State Grants - Computer
A32: Federal Payments in Lieu of Taxes
A33: State Aid Distribution
A34: Oil and Gas Production
A35: Homestead Credit
A36: State Payment
A37: Communication Tax
A38: Veterans Credit
A46: Total Intergovernmental Revenue | D46: =SUM(D31:D45) -> 0 | E46: =SUM(E31:E45) -> 0 | F46: =SUM(F31:F45) -> 0 | G46: =SUM(G31:G45) -> 0

Sheet GWKS 2
G1: Page XX
A3: General Fund
A4: Supporting Worksheet
A5: Revenue Continued
D8: Optional Column | E8: Required Columns
D9: Actual | E9: Actual | F9: Estimated | G9: Estimated
D10: Revenues | E10: Revenues | F10: Revenues | G10: Revenues
D11: =+E11-1 -> 2024 | E11: =+F11-1 -> 2025 | F11: =+G11-1 -> 2026 | G11: =+'GWKS 1'!G11 -> 2027
A12: Charges for Services
A13: Clerk of Court
A14: County Court
A15: County Recorder
A16: Sheriff
A17: Community Service Program
A18: Drug Testing
A19: Graveling
A20: Snow Removal
A23: ___________________________
A24: Total Charges for Services | D24: =SUM(D13:D23) -> 0 | E24: =SUM(E13:E23) -> 0 | F24: =SUM(F13:F23) -> 0 | G24: =SUM(G13:G23) -> 0
A26: Fines and Forfeits
A27: Court Costs
A30: ___________________________
A31: Total Fines and Forfeits | D31: =SUM(D27:D30) -> 0 | E31: =SUM(E27:E30) -> 0 | F31: =SUM(F27:F30) -> 0 | G31: =SUM(G27:G30) -> 0
A33: Miscellaneous Revenue
A34: Interest Income
A35: Rent
A36: Advertising
A47: Total Misc. Revenue | D47: =SUM(D34:D46) -> 0 | E47: =SUM(E34:E46) -> 0 | F47: =SUM(F34:F46) -> 0 | G47: =SUM(G34:G46) -> 0
A48: Total Revenue | D48: =D24+D31+D47+'GWKS 1'!D20+'GWKS 1'!D29+'GWKS 1'!D46 -> 0 | E48: =E24+E31+E47+'GWKS 1'!E20+'GWKS 1'!E29+'GWKS 1'!E46 -> 0 | F48: =F24+F31+F47+'GWKS 1'!F20+'GWKS 1'!F29+'GWKS 1'!F46 -> 0 | G48: =G24+G31+G47+'GWKS 1'!G20+'GWKS 1'!G29+'GWKS 1'!G46 -> 0

Sheet GWKS 3
H1: Page XX
A3: General Fund
A4: Supporting Worksheet
A5: Expenditures
D8: Optional Column | E8: Required Columns
D9: Actual | E9: Actual | F9: Estimated | H9: Final
D10: Expenditures | E10: Expenditures | F10: Expenditures | G10: Requested | H10: Appropriation
D11: =+E11-1 -> 2024 | E11: =+F11-1 -> 2025 | F11: =+G11-1 -> 2026 | G11: =+H11 -> 2027 | H11: =+'GWKS 2'!G11 -> 2027
A12: General Government
A13: Governing Board
A14: District Court
A15: County Court
A16: Clerk of Court
A17: Auditor-Treasurer
A18: Treasurer
A19: State's Attorney
A20: Assessor
A21: County Recorder
A22: Veteran's Service Officer
A23: County Supt. of Schools
... A41: Property Insurance
A48: Total General Government | D48: =SUM(D13:D47) -> 0 | E48: =SUM(E13:E47) -> 0 | F48: =SUM(F13:F47) -> 0 | G48: =SUM(G13:G47) -> 0 | H48: =SUM(H13:H47) -> 0

Sheet GWKS 4
H1: Page XX
A3: General Fund
A4: Supporting Worksheet
A5: Expenditures Continued
D8: Optional Column | E8: Required Columns
D9: Actual | E9: Actual | F9: Estimated | H9: Final
D10: Expenditures | E10: Expenditures | F10: Expenditures | G10: Requested | H10: Appropriation
D11: =+E11-1 -> 2024 | E11: =+F11-1 -> 2025 | F11: =+G11-1 -> 2026 | G11: =+H11 -> 2027 | H11: =+'GWKS 3'!H11 -> 2027
A13: Public Safety
A14: County Sheriff
A15: Dispatch
A16: Custody of Prisoners
A17: County Coroner
A18: Disaster Emergency Services
A24: Total Public Safety | D24: =SUM(D14:D23) -> 0 | E24: =SUM(E14:E23) -> 0 | F24: =SUM(F14:F23) -> 0 | G24: =SUM(G14:G23) -> 0 | H24: =SUM(H14:H23) -> 0
A26: Health and Welfare
A27: County Physician
A28: Public Health Nurse
A29: Board of Health
A33: Total Health & Welfare | D33: =SUM(D27:D32) -> 0 | E33: =SUM(E27:E32) -> 0 | F33: =SUM(F27:F32) -> 0 | G33: =SUM(G27:G32) -> 0 | H33: =SUM(H27:H32) -> 0
A35: Culture and Recreation
A36: County Fair
A37: County Park
A40: Total Culture & Recreation | D40: =SUM(D36:D39) -> 0 | E40: =SUM(E36:E39) -> 0 | F40: =SUM(F36:F39) -> 0 | G40: =SUM(G36:G39) -> 0 | H40: =SUM(H36:H39) -> 0

Sheet GWKS 5
H1: Page XX
A3: General Fund
A4: Supporting Worksheet
A5: Expenditures Continued
D8: Optional Column | E8: Required Columns
D9: Actual | E9: Actual | F9: Estimated | H9: Final
D10: Expenditures | E10: Expenditures | F10: Expenditures | G10: Requested | H10: Appropriation
D11: =+E11-1 -> 2024 | E11: =+F11-1 -> 2025 | F11: =+G11-1 -> 2026 | G11: =+H11 -> 2027 | H11: =+'GWKS 4'!H11 -> 2027
A12: Debt Service
A13: Princple
A14: Interest
A16: Total Debt Service | D16: =SUM(D13:D15) -> 0 | E16: =SUM(E13:E15) -> 0 | F16: =SUM(F13:F15) -> 0 | G16: =SUM(G13:G15) -> 0 | H16: =SUM(H13:H15) -> 0
A18: Conservation of Nat. Resources
A19: County Agent
A20: Soil Conservation Service
A21: Hazardous Response Program
A22: Planning and Zoning
A25: Total Cons. of Nat. Resources | D25: =SUM(D19:D24) -> 0 | E25: =SUM(E19:E24) -> 0 | F25: =SUM(F19:F24) -> 0 | G25: =SUM(G19:G24) -> 0 | H25: =SUM(H19:H24) -> 0
A27: Economic Development
A28: Grants
A31: Total Economic Dev. | D31: =SUM(D28:D30) -> 0 | E31: =SUM(E28:E30) -> 0 | F31: =SUM(F28:F30) -> 0 | G31: =SUM(G28:G30) -> 0 | H31: =SUM(H28:H30) -> 0
A33: Miscellaneous
A34: Miscellaneous
A35: Rent
A39: Total Miscellaneous | D39: =SUM(D34:D38) -> 0 | E39: =SUM(E34:E38) -> 0 | F39: =SUM(F34:F38) -> 0 | G39: =SUM(G34:G38) -> 0 | H39: =SUM(H34:H38) -> 0
A40: Total Appropriation | D40: =SUM('GWKS 3'!D48+'GWKS 4'!D24+'GWKS 4'!D33+'GWKS 4'!D40+'GWKS 5'!D16+ 'GWKS 5'!D25+D31+'GWKS 5'!D39) -> 0 | E40: =SUM('GWKS 3'!E48+'GWKS 4'!E24+'GWKS 4'!E33+'GWKS 4'!E40+'GWKS 5'!E16+ 'GWKS 5'!E25+E31+'GWKS 5'!E39) -> 0 | F40: =SUM('GWKS 3'!F48+'GWKS 4'!F24+'GWKS 4'!F33+'GWKS 4'!F40+'GWKS 5'!F16+ 'GWKS 5'!F25+F31+'GWKS 5'!F39) -> 0 | G40: =SUM('GWKS 3'!G48+'GWKS 4'!G24+'GWKS 4'!G33+'GWKS 4'!G40+'GWKS 5'!G16+ 'GWKS 5'!G25+G31+'GWKS 5'!G39) -> 0 | H40: =SUM('GWKS 3'!H48+'GWKS 4'!H24+'GWKS 4'!H33+'GWKS 4'!H40+'GWKS 5'!H16+ 'GWKS 5'!H25+H31+'GWKS 5'!H39) -> 0
A41: Revenue Over (Under) Exp. | D41: =+'GWKS 2'!D48-'GWKS 5'!D40 -> 0 | E41: =+'GWKS 2'!E48-'GWKS 5'!E40 -> 0 | F41: =+'GWKS 2'!F48-'GWKS 5'!F40 -> 0 | G41: =+'GWKS 2'!G48-'GWKS 5'!G40 -> 0 | H41: =+'GWKS 2'!G48-'GWKS 5'!H40 -> 0
A42: Balance January 1 | E42: =D45 -> 0 | F42: =+E45 -> 0 | G42: =+F45 -> 0 | H42: =+F45 -> 0
A43: Transfers In
A44: Transfers Out
A45: Balance (December 31) | D45: =SUM(D41+D42+D43-D44) -> 0 | E45: =SUM(E41+E42+E43-E44) -> 0 | F45: =F41+F42+F43-F44 -> 0 | G45: =G41+G42+G43-G44 -> 0 | H45: =H41+H42+H43-H44 -> 0

Sheet SR 1
I1: Page XX
E2: SR Example Fund 1
E3: Fund XXX
E4: Max Levy Limit - | F4: 0
A6: Estimated Taxable Valuation ------> | E6: 0
B8: APPROPRIATION AND CASH RESERVE | N8: Cash Reserve Worksheet
A9: 1. | B9: a. Final Appropriation | G9: =+'SR 1 WKS'!H56 -> 0
B10: b. Budgeted Transfers Out | G10: =+'SR 1 WKS'!H60 -> 0 | N10: Current Appropriation | P10: =+'SR 1 WKS'!F56 -> 0
B11: c. Total Appropriation Line a plus Line b | I11: =G9+G10 -> 0 | N11: Current Budgeted Transfers Out | P11: =+'SR 1 WKS'!F60 -> 0
A12: 2. | B12: Cash Reserve (Note 1) | I12: 0 | K12: =IF(I12>P24,"Too High", "Within Limitations") -> Within Limitations | N12: Total Appropriation | P12: =SUM(P10:P11) -> 0
A13: 3. | B13: TOTAL APPROPRIATION AND CASH RESERVE
B14: Line 1c plus Line 2 | I14: =I11+I12 -> 0 | N14: Max Cash Reserve Amount | P14: =+P12*0.75 -> 0
B16: RESOURCES AND AMOUNT LEVIED | N16: Ensuing Appropriation | P16: =+'SR 1 WKS'!H56 -> 0
A17: 4 | B17: Cash and Investments (Estimated) December 31, | F17: =(+TOC!D2-1) & " (Note 2)" -> 2026 (Note 2) | I17: =+'SR 1 WKS'!F61 -> 0 | N17: Ensuing Budgeted Transfers Out | P17: =+'SR 1 WKS'!H60 -> 0
A18: 5. | B18: a. Estimated Revenue | G18: =+'SR 1 WKS'!H27 -> 0 | N18: Total Appropriation | P18: =SUM(P16:P17) -> 0
B19: b. Estimated Transfers In | G19: =+'SR 1 WKS'!H59 -> 0
B20: c. Total Estimated Revenue and Transfers In | N20: Max Cash Reserve Amount | P20: =+P18*0.75 -> 0
B21: Line a plus Line b | I21: =G18+G19 -> 0
A23: 6. | B23: TOTAL RESOURCES--Line 4 plus Line 5c | I23: =I17+I21 -> 0 | N23: SAO Recommended
A24: 7. | B24: Levy Required--Line 3 less Line 6 | N24: Max Cash Reserve Amount | P24: =MIN(P14,P20) -> 0
B25: If this difference is less tan 0 enter 0 | I25: =IF((I14-I23)<0,0,I14-I23) -> 0
A26: 8. | B26: Allowance for Delinquent Tax Collections
B27: (Not to exceed 5% of Line 7) | I27: 0 | K27: =IF(I27>(I25*0.05),"Too High", "Within Limitations") -> Within Limitations
A28: 9. | B28: Total Amount Levied--Line 7 plus Line 8 | I28: =I25+I27 -> 0 | N28: Year End Fund Balance Estimate
O29: =+Summary!A5 -> 2027 | P29: =+I12 -> 0
A30: 10. | B30: Estimated Mills | I30: =ROUND(I28/E6*1000,2) -> #DIV/0! | K30: =IF(I30>(F4),"Too High", "Within Limitations") -> #DIV/0!
A32: Note 1-- Cash Reserve/Interim Fund (N.D.C.C. 57-15-27) Not to exceed 75% of the current year appropriation for all purposes other than for debt retirement and appropriations financed from Bond Sources.
A34: Note 2 - Line 4 is currently a formula. If a better estimate at the time of preparing the budget is available, the County Auditor can modify the formula. If modified, ensure the estimate is for all cash and investments in the fund and that the County maintains proper support for the estimate.
A38: North Dakota Century Code:
A40: 57-15-05. County tax levy. The board of county commissioners, in levying county taxes, is limited to the amount necessary to meet the appropriations included in the county budget for the ensuing fiscal year, and to provide a reserve fund as limited in this chapter, together with a tax sufficient in amount to pay the interest on the bonded debt of the county and to provide a sinking fund to pay the principal at maturity. The county budget shall show the complete expenditure program of the county for the ensuing fiscal year and the sources of revenue from which it is to be financed.
A46: 57-15-27. Interim fund. The governing body of any county, city, park district, or municipality, other than a school district, which is authorized to levy taxes may include in its budget an item to be known as the "interim fund" which must be carried over to the next ensuing fiscal year to meet the cash requirements of all funds or purposes to which the credit of the municipality may be legally extended, for that portion of such fiscal year prior to the receipt of taxes therein. In no case may the interim fund be in excess of the amount reasonably required to finance the municipality for the first nine months of the next ensuing fiscal year. The interim fund may not be in excess of three-fourths of the current annual appropriation for all purposes other than debt retirement purposes and appropriations financed from bond sources.
A53: 57-15-31. Determination of levy. 1. The amount to be levied by any county, city, township, school district, park district, or other municipality authorized to levy taxes must be computed by deducting from the amount of estimated expenditures for the current fiscal year as finally determined, plus the required reserve fund determined upon by the governing board from the past experience of the taxing district, the total of the following items: a. The available surplus consisting of the free and unencumbered cash balance; . b. Estimated revenues from sources other than direct property taxes; c. The total estimated collections from tax levies for previous years; d. Expenditures that must be made from bond sources; e. The amount of distributions received from an economic growth increment pool under section 57-15-61; and f. The estimated amount to be received from payments in lieu of taxes on a project under section 40-57.1-03. 2. Allowance may be made for a permanent delinquency or loss in tax collection not to exceed five percent of the amount of the levy.

Sheet SR 1 WKS
H1: Page XX
A4: =+'SR 1'!E2 -> SR Example Fund 1
A5: Supporting Worksheet
A6: =+'SR 1'!E3 -> Fund XXX
D8: Optional Column | E8: Required Columns
D9: Actual | E9: Actual | F9: Estimated | G9: Estimated
D10: Revenues | E10: Revenues | F10: Revenues | G10: Revenues
A11: REVENUES | D11: =+E11-1 -> 2024 | E11: =+F11-1 -> 2025 | F11: =+G11-1 -> 2026 | G11: =+TOC!D2 -> 2027
A12: General Property Taxes | D12: 0 | E12: 0 | F12: 0
A13: State Aid Distribution | D13: 0 | E13: 0 | F13: 0 | H13: 0
A14: Homestead Credit | D14: 0 | E14: 0 | F14: 0 | H14: 0
A15: Communication Tax | D15: 0 | E15: 0 | F15: 0 | H15: 0
A16: Financial Institution Tax | D16: 0 | E16: 0 | F16: 0 | H16: 0
A17: Other Governments | D17: 0 | E17: 0 | F17: 0 | H17: 0
A18: Individuals | D18: 0 | E18: 0 | F18: 0 | H18: 0
A19: Interest | D19: 0 | E19: 0 | F19: 0 | H19: 0
A20: Miscellaneous | D20: 0 | E20: 0 | F20: 0 | H20: 0
A21: Permits | D21: 0 | E21: 0 | F21: 0 | H21: 0
D22: 0 | E22: 0 | F22: 0 | H22: 0
D23: 0 | E23: 0 | F23: 0 | H23: 0
D24: 0 | E24: 0 | F24: 0 | H24: 0
D25: 0 | E25: 0 | F25: 0 | H25: 0
D26: 0 | E26: 0 | F26: 0 | H26: 0
A27: Total Revenues | D27: =SUM(D12:D26) -> 0 | E27: =SUM(E12:E26) -> 0 | F27: =SUM(F12:F26) -> 0 | H27: =SUM(H13:H26) -> 0
D29: Actual | E29: Actual | F29: Estimated | H29: Final
D30: Expenditures | E30: Expenditures | F30: Expenditures | G30: Requested | H30: Appropriation
A31: EXPENDITURES | D31: =+D11 -> 2024 | E31: =+E11 -> 2025 | F31: =+F11 -> 2026 | G31: =+G11 -> 2027 | H31: =+G11 -> 2027
A32: Salaries | D32: 0 | E32: 0 | F32: 0 | G32: 0 | H32: 0
A33: Health Insurance | D33: 0 | E33: 0 | F33: 0 | G33: 0 | H33: 0
A34: Fica | D34: 0 | E34: 0 | F34: 0 | G34: 0 | H34: 0
A35: Medicare | D35: 0 | E35: 0 | F35: 0 | G35: 0 | H35: 0
A36: Retirement | D36: 0 | E36: 0 | F36: 0 | G36: 0 | H36: 0
A37: Workers Compensation | D37: 0 | E37: 0 | F37: 0 | G37: 0 | H37: 0
A38: Unemployment | D38: 0 | E38: 0 | F38: 0 | G38: 0 | H38: 0
A39: Equipment Rental | D39: 0 | E39: 0 | F39: 0 | G39: 0 | H39: 0
A40: Utilities | D40: 0 | E40: 0 | F40: 0 | G40: 0 | H40: 0
A41: Other Services | D41: 0 | E41: 0 | F41: 0 | G41: 0 | H41: 0
A42: Gas, Oil, Fuel | D42: 0 | E42: 0 | F42: 0 | G42: 0 | H42: 0
A43: Repairs & Parts | D43: 0 | E43: 0 | F43: 0 | G43: 0 | H43: 0
... A50: Miscellaneous | D50: 0 | E50: 0 | F50: 0 | G50: 0 | H50: 0
...

Sheet SR 2
I1: Page XX
E2: SR Example Fund 2
E3: Fund XXX
E4: Max Levy Limit - | F4: 0
A6: Estimated Taxable Valuation ------> | E6: 0
B8: APPROPRIATION AND CASH RESERVE | N8: Cash Reserve Worksheet
A9: 1. | B9: a. Final Appropriation | G9: =+'SR 2 WKS '!H56 -> 0
B10: b. Budgeted Transfers Out | G10: =+'SR 2 WKS '!H60 -> 0 | N10: Current Appropriation | P10: =+'SR 2 WKS '!F56 -> 0
B11: c. Total Appropriation Line a plus Line b | I11: =G9+G10 -> 0 | N11: Current Budgeted Transfers Out | P11: =+'SR 2 WKS '!F60 -> 0
A12: 2. | B12: Cash Reserve (Note 1) | I12: 0 | K12: =IF(I12>P24,"Too High", "Within Limitations") -> Within Limitations | N12: Total Appropriation | P12: =SUM(P10:P11) -> 0
A13: 3. | B13: TOTAL APPROPRIATION AND CASH RESERVE
B14: Line 1c plus Line 2 | I14: =I11+I12 -> 0 | N14: Max Cash Reserve Amount | P14: =+P12*0.75 -> 0
B16: RESOURCES AND AMOUNT LEVIED | N16: Ensuing Appropriation | P16: =+'SR 2 WKS '!H56 -> 0
A17: 4 | B17: Cash and Investments (Estimated) December 31, | F17: =(+TOC!D2-1) & " (Note 2)" -> 2026 (Note 2) | I17: =+'SR 2 WKS '!F61 -> 0 | N17: Ensuing Budgeted Transfers Out | P17: =+'SR 2 WKS '!H60 -> 0
A18: 5. | B18: a. Estimated Revenue | G18: =+'SR 2 WKS '!H27 -> 0 | N18: Total Appropriation | P18: =SUM(P16:P17) -> 0
B19: b. Estimated Transfers In | G19: =+'SR 2 WKS '!H59 -> 0
B20: c. Total Estimated Revenue and Transfers In | N20: Max Cash Reserve Amount | P20: =+P18*0.75 -> 0
B21: Line a plus Line b | I21: =G18+G19 -> 0
A23: 6. | B23: TOTAL RESOURCES--Line 4 plus Line 5c | I23: =I17+I21 -> 0 | N23: SAO Recommended
A24: 7. | B24: Levy Required--Line 3 less Line 6 | N24: Max Cash Reserve Amount | P24: =MIN(P14,P20) -> 0
B25: If this difference is less tan 0 enter 0 | I25: =IF((I14-I23)<0,0,I14-I23) -> 0
A26: 8. | B26: Allowance for Delinquent Tax Collections
B27: (Not to exceed 5% of Line 7) | I27: 0 | K27: =IF(I27>(I25*0.05),"Too High", "Within Limitations") -> Within Limitations
A28: 9. | B28: Total Amount Levied--Line 7 plus Line 8 | I28: =I25+I27 -> 0
A30: 10. | B30: Estimated Mills | I30: =ROUND(I28/E6*1000,2) -> #DIV/0! | K30: =IF(I30>(F4),"Too High", "Within Limitations") -> #DIV/0!
A32: Note 1-- Cash Reserve/Interim Fund (N.D.C.C. 57-15-27) Not to exceed 75% of the current year appropriation for all purposes other than for debt retirement and appropriations financed from Bond Sources.
A34: Note 2 - Line 4 is currently a formula. If a better estimate at the time of preparing the budget is available, the County Auditor can modify the formula. If modified, ensure the estimate is for all cash and investments in the fund and that the County maintains proper support for the estimate.
A38: North Dakota Century Code:
A40: 57-15-05. County tax levy. The board of county commissioners, in levying county taxes, is limited to the amount necessary to meet the appropriations included in the county budget for the ensuing fiscal year, and to provide a reserve fund as limited in this chapter, together with a tax sufficient in amount to pay the interest on the bonded debt of the county and to provide a sinking fund to pay the principal at maturity. The county budget shall show the complete expenditure program of the county for the ensuing fiscal year and the sources of revenue from which it is to be financed.
A46: 57-15-27. Interim fund. The governing body of any county, city, park district, or municipality, other than a school district, which is authorized to levy taxes may include in its budget an item to be known as the "interim fund" which must be carried over to the next ensuing fiscal year to meet the cash requirements of all funds or purposes to which the credit of the municipality may be legally extended, for that portion of such fiscal year prior to the receipt of taxes therein. In no case may the interim fund be in excess of the amount reasonably required to finance the municipality for the first nine months of the next ensuing fiscal year. The interim fund may not be in excess of three-fourths of the current annual appropriation for all purposes other than debt retirement purposes and appropriations financed from bond sources.
A53: 57-15-31. Determination of levy. 1. The amount to be levied by any county, city, township, school district, park district, or other municipality authorized to levy taxes must be computed by deducting from the amount of estimated expenditures for the current fiscal year as finally determined, plus the required reserve fund determined upon by the governing board from the past experience of the taxing district, the total of the following items: a. The available surplus consisting of the free and unencumbered cash balance; . b. Estimated revenues from sources other than direct property taxes; c. The total estimated collections from tax levies for previous years; d. Expenditures that must be made from bond sources; e. The amount of distributions received from an economic growth increment pool under section 57-15-61; and f. The estimated amount to be received from payments in lieu of taxes on a project under section 40-57.1-03. 2. Allowance may be made for a permanent delinquency or loss in tax collection not to exceed five percent of the amount of the levy.

Sheet SR 2 WKS 
H1: Page XX
A4: =+'SR 2'!E2 -> SR Example Fund 2
A5: Supporting Worksheet
A6: =+'SR 2'!E3 -> Fund XXX
D8: Optional Column | E8: Required Columns
D9: Actual | E9: Actual | F9: Estimated | G9: Estimated
D10: Revenues | E10: Revenues | F10: Revenues | G10: Revenues
A11: REVENUES | D11: =+E11-1 -> 2024 | E11: =+F11-1 -> 2025 | F11: =+G11-1 -> 2026 | G11: =+TOC!D2 -> 2027
A12: General Property Taxes | D12: 0 | E12: 0 | F12: 0
A13: State Aid Distribution | D13: 0 | E13: 0 | F13: 0 | H13: 0
A14: Homestead Credit | D14: 0 | E14: 0 | F14: 0 | H14: 0
A15: Communication Tax | D15: 0 | E15: 0 | F15: 0 | H15: 0
A16: Financial Institution Tax | D16: 0 | E16: 0 | F16: 0 | H16: 0
A17: Other Governments | D17: 0 | E17: 0 | F17: 0 | H17: 0
A18: Individuals | D18: 0 | E18: 0 | F18: 0 | H18: 0
A19: Interest | D19: 0 | E19: 0 | F19: 0 | H19: 0
A20: Miscellaneous | D20: 0 | E20: 0 | F20: 0 | H20: 0
A21: Permits | D21: 0 | E21: 0 | F21: 0 | H21: 0
D22: 0 | E22: 0 | F22: 0 | H22: 0
D23: 0 | E23: 0 | F23: 0 | H23: 0
D24: 0 | E24: 0 | F24: 0 | H24: 0
D25: 0 | E25: 0 | F25: 0 | H25: 0
D26: 0 | E26: 0 | F26: 0 | H26: 0
A27: Total Revenues | D27: =SUM(D12:D26) -> 0 | E27: =SUM(E12:E26) -> 0 | F27: =SUM(F12:F26) -> 0 | H27: =SUM(H13:H26) -> 0
D29: Actual | E29: Actual | F29: Estimated | H29: Final
D30: Expenditures | E30: Expenditures | F30: Expenditures | G30: Requested | H30: Appropriation
A31: EXPENDITURES | D31: =+D11 -> 2024 | E31: =+E11 -> 2025 | F31: =+F11 -> 2026 | G31: =+G11 -> 2027 | H31: =+G11 -> 2027
A32: Salaries | D32: 0 | E32: 0 | F32: 0 | G32: 0 | H32: 0
A33: Health Insurance | D33: 0 | E33: 0 | F33: 0 | G33: 0 | H33: 0
A34: Fica | D34: 0 | E34: 0 | F34: 0 | G34: 0 | H34: 0
A35: Medicare | D35: 0 | E35: 0 | F35: 0 | G35: 0 | H35: 0
A36: Retirement | D36: 0 | E36: 0 | F36: 0 | G36: 0 | H36: 0
A37: Workers Compensation | D37: 0 | E37: 0 | F37: 0 | G37: 0 | H37: 0
A38: Unemployment | D38: 0 | E38: 0 | F38: 0 | G38: 0 | H38: 0
A39: Equipment Rental | D39: 0 | E39: 0 | F39: 0 | G39: 0 | H39: 0
A40: Utilities | D40: 0 | E40: 0 | F40: 0 | G40: 0 | H40: 0
A41: Other Services | D41: 0 | E41: 0 | F41: 0 | G41: 0 | H41: 0
A42: Gas, Oil, Fuel | D42: 0 | E42: 0 | F42: 0 | G42: 0 | H42: 0
A43: Repairs & Parts | D43: 0 | E43: 0 | F43: 0 | G43: 0 | H43: 0
... A50: Miscellaneous | D50: 0 | E50: 0 | F50: 0 | G50: 0 | H50: 0
...

Sheet SR 3
I1: Page XX
E2: SR Example Fund 3
E3: Fund XXX
E4: Max Levy Limit - | F4: 0
A6: Estimated Taxable Valuation ------> | E6: 0
B8: APPROPRIATION AND CASH RESERVE | N8: Cash Reserve Worksheet
A9: 1. | B9: a. Final Appropriation | G9: =+'SR 3 WKS'!H56 -> 0
B10: b. Budgeted Transfers Out | G10: =+'SR 3 WKS'!H60 -> 0 | N10: Current Appropriation | P10: =+'SR 3 WKS'!F56 -> 0
B11: c. Total Appropriation Line a plus Line b | I11: =G9+G10 -> 0 | N11: Current Budgeted Transfers Out | P11: =+'SR 3 WKS'!F60 -> 0
A12: 2. | B12: Cash Reserve (Note 1) | I12: 0 | K12: =IF(I12>P24,"Too High", "Within Limitations") -> Within Limitations | N12: Total Appropriation | P12: =SUM(P10:P11) -> 0
A13: 3. | B13: TOTAL APPROPRIATION AND CASH RESERVE
B14: Line 1c plus Line 2 | I14: =I11+I12 -> 0 | N14: Max Cash Reserve Amount | P14: =+P12*0.75 -> 0
B16: RESOURCES AND AMOUNT LEVIED | N16: Ensuing Appropriation | P16: =+'SR 3 WKS'!H56 -> 0
A17: 4 | B17: Cash and Investments (Estimated) December 31, | F17: =(+TOC!D2-1) & " (Note 2)" -> 2026 (Note 2) | I17: =+'SR 3 WKS'!F61 -> 0 | N17: Ensuing Budgeted Transfers Out | P17: =+'SR 3 WKS'!H60 -> 0
A18: 5. | B18: a. Estimated Revenue | G18: =+'SR 3 WKS'!H27 -> 0 | N18: Total Appropriation | P18: =SUM(P16:P17) -> 0
B19: b. Estimated Transfers In | G19: =+'SR 3 WKS'!H59 -> 0
B20: c. Total Estimated Revenue and Transfers In | N20: Max Cash Reserve Amount | P20: =+P18*0.75 -> 0
B21: Line a plus Line b | I21: =G18+G19 -> 0
A23: 6. | B23: TOTAL RESOURCES--Line 4 plus Line 5c | I23: =I17+I21 -> 0 | N23: SAO Recommended
A24: 7. | B24: Levy Required--Line 3 less Line 6 | N24: Max Cash Reserve Amount | P24: =MIN(P14,P20) -> 0
B25: If this difference is less tan 0 enter 0 | I25: =IF((I14-I23)<0,0,I14-I23) -> 0
A26: 8. | B26: Allowance for Delinquent Tax Collections
B27: (Not to exceed 5% of Line 7) | I27: 0 | K27: =IF(I27>(I25*0.05),"Too High", "Within Limitations") -> Within Limitations
A28: 9. | B28: Total Amount Levied--Line 7 plus Line 8 | I28: =I25+I27 -> 0
A30: 10. | B30: Estimated Mills | I30: =ROUND(I28/E6*1000,2) -> #DIV/0! | K30: =IF(I30>(F4),"Too High", "Within Limitations") -> #DIV/0!
A32: Note 1-- Cash Reserve/Interim Fund (N.D.C.C. 57-15-27) Not to exceed 75% of the current year appropriation for all purposes other than for debt retirement and appropriations financed from Bond Sources.
A34: Note 2 - Line 4 is currently a formula. If a better estimate at the time of preparing the budget is available, the County Auditor can modify the formula. If modified, ensure the estimate is for all cash and investments in the fund and that the County maintains proper support for the estimate.
A38: North Dakota Century Code:
A40: 57-15-05. County tax levy. The board of county commissioners, in levying county taxes, is limited to the amount necessary to meet the appropriations included in the county budget for the ensuing fiscal year, and to provide a reserve fund as limited in this chapter, together with a tax sufficient in amount to pay the interest on the bonded debt of the county and to provide a sinking fund to pay the principal at maturity. The county budget shall show the complete expenditure program of the county for the ensuing fiscal year and the sources of revenue from which it is to be financed.
A46: 57-15-27. Interim fund. The governing body of any county, city, park district, or municipality, other than a school district, which is authorized to levy taxes may include in its budget an item to be known as the "interim fund" which must be carried over to the next ensuing fiscal year to meet the cash requirements of all funds or purposes to which the credit of the municipality may be legally extended, for that portion of such fiscal year prior to the receipt of taxes therein. In no case may the interim fund be in excess of the amount reasonably required to finance the municipality for the first nine months of the next ensuing fiscal year. The interim fund may not be in excess of three-fourths of the current annual appropriation for all purposes other than debt retirement purposes and appropriations financed from bond sources.
A53: 57-15-31. Determination of levy. 1. The amount to be levied by any county, city, township, school district, park district, or other municipality authorized to levy taxes must be computed by deducting from the amount of estimated expenditures for the current fiscal year as finally determined, plus the required reserve fund determined upon by the governing board from the past experience of the taxing district, the total of the following items: a. The available surplus consisting of the free and unencumbered cash balance; . b. Estimated revenues from sources other than direct property taxes; c. The total estimated collections from tax levies for previous years; d. Expenditures that must be made from bond sources; e. The amount of distributions received from an economic growth increment pool under section 57-15-61; and f. The estimated amount to be received from payments in lieu of taxes on a project under section 40-57.1-03. 2. Allowance may be made for a permanent delinquency or loss in tax collection not to exceed five percent of the amount of the levy.

Sheet SR 3 WKS
H1: Page XX
A4: =+'SR 3'!E2 -> SR Example Fund 3
A5: Supporting Worksheet
A6: =+'SR 3'!E3 -> Fund XXX
D8: Optional Column | E8: Required Columns
D9: Actual | E9: Actual | F9: Estimated | G9: Estimated
D10: Revenues | E10: Revenues | F10: Revenues | G10: Revenues
A11: REVENUES | D11: =+E11-1 -> 2024 | E11: =+F11-1 -> 2025 | F11: =+G11-1 -> 2026 | G11: =+TOC!D2 -> 2027
A12: General Property Taxes | D12: 0 | E12: 0 | F12: 0
A13: State Aid Distribution | D13: 0 | E13: 0 | F13: 0 | H13: 0
A14: Homestead Credit | D14: 0 | E14: 0 | F14: 0 | H14: 0
A15: Communication Tax | D15: 0 | E15: 0 | F15: 0 | H15: 0
A16: Financial Institution Tax | D16: 0 | E16: 0 | F16: 0 | H16: 0
A17: Other Governments | D17: 0 | E17: 0 | F17: 0 | H17: 0
A18: Individuals | D18: 0 | E18: 0 | F18: 0 | H18: 0
A19: Interest | D19: 0 | E19: 0 | F19: 0 | H19: 0
A20: Miscellaneous | D20: 0 | E20: 0 | F20: 0 | H20: 0
A21: Permits | D21: 0 | E21: 0 | F21: 0 | H21: 0
D22: 0 | E22: 0 | F22: 0 | H22: 0
D23: 0 | E23: 0 | F23: 0 | H23: 0
D24: 0 | E24: 0 | F24: 0 | H24: 0
D25: 0 | E25: 0 | F25: 0 | H25: 0
D26: 0 | E26: 0 | F26: 0 | H26: 0
A27: Total Revenues | D27: =SUM(D12:D26) -> 0 | E27: =SUM(E12:E26) -> 0 | F27: =SUM(F12:F26) -> 0 | H27: =SUM(H13:H26) -> 0
D29: Actual | E29: Actual | F29: Estimated | H29: Final
D30: Expenditures | E30: Expenditures | F30: Expenditures | G30: Requested | H30: Appropriation
A31: EXPENDITURES | D31: =+D11 -> 2024 | E31: =+E11 -> 2025 | F31: =+F11 -> 2026 | G31: =+G11 -> 2027 | H31: =+G11 -> 2027
A32: Salaries | D32: 0 | E32: 0 | F32: 0 | G32: 0 | H32: 0
A33: Health Insurance | D33: 0 | E33: 0 | F33: 0 | G33: 0 | H33: 0
A34: Fica | D34: 0 | E34: 0 | F34: 0 | G34: 0 | H34: 0
A35: Medicare | D35: 0 | E35: 0 | F35: 0 | G35: 0 | H35: 0
A36: Retirement | D36: 0 | E36: 0 | F36: 0 | G36: 0 | H36: 0
A37: Workers Compensation | D37: 0 | E37: 0 | F37: 0 | G37: 0 | H37: 0
A38: Unemployment | D38: 0 | E38: 0 | F38: 0 | G38: 0 | H38: 0
A39: Equipment Rental | D39: 0 | E39: 0 | F39: 0 | G39: 0 | H39: 0
A40: Utilities | D40: 0 | E40: 0 | F40: 0 | G40: 0 | H40: 0
A41: Other Services | D41: 0 | E41: 0 | F41: 0 | G41: 0 | H41: 0
